BEGIN:VCALENDAR
VERSION:2.0
PRODID:-//hacksw/handcal//NONSGML v1.0//EN
BEGIN:VEVENT
DTSTAMP:20190926T130000Z
DTSTART:20190926T130000Z
DTEND:20190926T130000Z
SUMMARY:Sitzung des Rates der Stadt Hagen
END:VEVENT
END:VCALENDAR
