BEGIN:VCALENDAR
VERSION:2.0
PRODID:-//hacksw/handcal//NONSGML v1.0//EN
BEGIN:VEVENT
DTSTAMP:20191202T170000Z
DTSTART:20191202T170000Z
DTEND:20191202T190000Z
LOCATION:Kreisgeschäftsstelle, Rathausstr.23, Hagen, 58095, Deutschland
SUMMARY:Kreisvorstandssitzung 12/2019
END:VEVENT
END:VCALENDAR
