BEGIN:VCALENDAR
VERSION:2.0
PRODID:-//hacksw/handcal//NONSGML v1.0//EN
BEGIN:VEVENT
DTSTAMP:20191007T160000Z
DTSTART:20191007T160000Z
DTEND:20191007T180000Z
LOCATION:Kreisgeschäftsstelle, Rathausstr.23, Hagen, 58095, Deutschland
SUMMARY:Kreisvorstandssitzung 10/2019
END:VEVENT
END:VCALENDAR
