BEGIN:VCALENDAR
VERSION:2.0
PRODID:-//hacksw/handcal//NONSGML v1.0//EN
BEGIN:VEVENT
DTSTAMP:20200819T140000Z
DTSTART:20200819T140000Z
DTEND:20200819T140000Z
SUMMARY:Sitzung des Unterausschusses Mobilität
END:VEVENT
END:VCALENDAR
