BEGIN:VCALENDAR
VERSION:2.0
PRODID:-//hacksw/handcal//NONSGML v1.0//EN
BEGIN:VEVENT
DTSTAMP:20201119T180000Z
DTSTART:20201119T180000Z
DTEND:20201119T200000Z
SUMMARY:KPV Online-Diskussion - Arbeiten in der COVID-19-Pandemie
END:VEVENT
END:VCALENDAR
