BEGIN:VCALENDAR
VERSION:2.0
PRODID:-//hacksw/handcal//NONSGML v1.0//EN
BEGIN:VEVENT
DTSTAMP:20220827T080000Z
DTSTART:20220827T080000Z
DTEND:20220828T120000Z
SUMMARY:Klausurtagung 2022
END:VEVENT
END:VCALENDAR
