BEGIN:VCALENDAR
VERSION:2.0
PRODID:-//hacksw/handcal//NONSGML v1.0//EN
BEGIN:VEVENT
DTSTAMP:20230322T170000Z
DTSTART:20230322T170000Z
DTEND:20230322T170000Z
LOCATION:Strandhaus, Seestr. 4, Hagen, 58089, Deutschland
SUMMARY:Kreisvorstandssitzung  III
END:VEVENT
END:VCALENDAR
