BEGIN:VCALENDAR
VERSION:2.0
PRODID:-//hacksw/handcal//NONSGML v1.0//EN
BEGIN:VEVENT
DTSTAMP:20231017T170000Z
DTSTART:20231017T170000Z
DTEND:20231017T170000Z
SUMMARY:CDU Fleyerviertel-Vorstandssitzung 
END:VEVENT
END:VCALENDAR
